BEGIN:VCALENDAR
VERSION:2.0
PRODID:-//demosphere.net//NONSGML kigkonsult.se iCalcreator 2.22.1//
METHOD:REQUEST
X-WR-TIMEZONE:Europe/Madrid
BEGIN:VEVENT
UID:https://safe.axendamazucu.org/evento/14361
DTSTAMP:20260315T113000Z
DESCRIPTION:más información aquí: https://safe.axendamazucu.org/evento/1436
 1
DTSTART:20260315T113000Z
DTEND:20260315T123000Z
GEO:+43.364323;-5.841605
LOCATION:Uviéu/Oviedo\, \nEl Manglar \nCalle Martínez Vigil\, 14\, 33010 Ov
 iedo (Asturias)
SUMMARY:Presentación del poemario “Sin Red”
URL:https://safe.axendamazucu.org/evento/14361
END:VEVENT
END:VCALENDAR
