BEGIN:VCALENDAR
VERSION:2.0
PRODID:-//demosphere.net//NONSGML kigkonsult.se iCalcreator 2.22.1//
METHOD:REQUEST
X-WR-TIMEZONE:Europe/Madrid
BEGIN:VEVENT
UID:https://safe.axendamazucu.org/evento/14362
DTSTAMP:20260313T183000Z
DESCRIPTION:más información aquí: https://safe.axendamazucu.org/evento/1436
 2
DTSTART:20260313T183000Z
DTEND:20260313T193000Z
GEO:+43.364323;-5.841605
LOCATION:Uviéu/Oviedo\, \nEl Manglar \nCalle Martínez Vigil\, 14\, 33010 Ov
 iedo (Asturias)
SUMMARY:Mohamed Safa presenta 'Gaza un genocidio televisado'
URL:https://safe.axendamazucu.org/evento/14362
END:VEVENT
END:VCALENDAR
