BEGIN:VCALENDAR
VERSION:2.0
PRODID:-//demosphere.net//NONSGML kigkonsult.se iCalcreator 2.22.1//
METHOD:REQUEST
X-WR-TIMEZONE:Europe/Madrid
BEGIN:VEVENT
UID:https://safe.axendamazucu.org/evento/14372
DTSTAMP:20260320T183000Z
DESCRIPTION:más información aquí: https://safe.axendamazucu.org/evento/1437
 2
DTSTART:20260320T183000Z
DTEND:20260320T193000Z
GEO:+43.539134;-5.657905
LOCATION:Xixón/Gijón\, \nLa habitación propia \nCelestino Junquera\, 1\, 33
 202 Xixón
SUMMARY:Presetación del manifiesto '(De)construyendo la menopausia '
URL:https://safe.axendamazucu.org/evento/14372
END:VEVENT
END:VCALENDAR
