BEGIN:VCALENDAR
VERSION:2.0
PRODID:-//demosphere.net//NONSGML kigkonsult.se iCalcreator 2.22.1//
METHOD:REQUEST
X-WR-TIMEZONE:Europe/Madrid
BEGIN:VEVENT
UID:https://safe.axendamazucu.org/evento/14377
DTSTAMP:20260328T103000Z
DESCRIPTION:más información aquí: https://safe.axendamazucu.org/evento/1437
 7
DTSTART:20260328T103000Z
DTEND:20260328T113000Z
GEO:+43.374321;-5.878706
LOCATION:Uviéu/Oviedo\, \nParcela de El Viescu\, Uviéu
SUMMARY:Taller de Mindfulness en El Viescu
URL:https://safe.axendamazucu.org/evento/14377
END:VEVENT
END:VCALENDAR
