BEGIN:VCALENDAR
VERSION:2.0
PRODID:-//demosphere.net//NONSGML kigkonsult.se iCalcreator 2.22.1//
METHOD:REQUEST
X-WR-TIMEZONE:Europe/Madrid
BEGIN:VEVENT
UID:https://safe.axendamazucu.org/evento/14379
DTSTAMP:20260321T110000Z
DESCRIPTION:más información aquí: https://safe.axendamazucu.org/evento/1437
 9
DTSTART:20260321T110000Z
DTEND:20260321T120000Z
GEO:+43.539134;-5.657905
LOCATION:Xixón/Gijón\, \nLa habitación propia \nCelestino Junquera\, 1\, 33
 202 Xixón
SUMMARY:Día mundial de la Poesía en La Habitación Propia:Recital y micro ab
 ierto
URL:https://safe.axendamazucu.org/evento/14379
END:VEVENT
END:VCALENDAR
