BEGIN:VCALENDAR
VERSION:2.0
PRODID:-//demosphere.net//NONSGML kigkonsult.se iCalcreator 2.22.1//
METHOD:REQUEST
X-WR-TIMEZONE:Europe/Madrid
BEGIN:VEVENT
UID:https://safe.axendamazucu.org/evento/14390
DTSTAMP:20260410T173000Z
DESCRIPTION:más información aquí: https://safe.axendamazucu.org/evento/1439
 0
DTSTART:20260410T173000Z
DTEND:20260410T183000Z
GEO:+43.360385;-5.842452
LOCATION:Uviéu/Oviedo\, \nRadio QK\, \nC/Padre Suárez\,1\, Oviedo
SUMMARY:Grupo lectura Radio QK: Anna Starobinets
URL:https://safe.axendamazucu.org/evento/14390
END:VEVENT
END:VCALENDAR
