BEGIN:VCALENDAR
VERSION:2.0
PRODID:-//demosphere.net//NONSGML kigkonsult.se iCalcreator 2.22.1//
METHOD:REQUEST
X-WR-TIMEZONE:Europe/Madrid
BEGIN:VEVENT
UID:https://safe.axendamazucu.org/evento/14413
DTSTAMP:20260406T170000Z
DESCRIPTION:más información aquí: https://safe.axendamazucu.org/evento/1441
 3
DTSTART:20260406T170000Z
DTEND:20260406T180000Z
GEO:+43.541473;-5.662259
LOCATION:Xixón/Gijón\, \nCentro de Cultura Antiguo Instituto de Gijón\, en 
 la calle Jovellanos\, nº 21.
SUMMARY:Conferencia: 'Guerra y paz ¿De qué lado están las religiones?'
URL:https://safe.axendamazucu.org/evento/14413
END:VEVENT
END:VCALENDAR
