BEGIN:VCALENDAR
VERSION:2.0
PRODID:-//demosphere.net//NONSGML kigkonsult.se iCalcreator 2.22.1//
METHOD:REQUEST
X-WR-TIMEZONE:Europe/Madrid
BEGIN:VEVENT
UID:https://safe.axendamazucu.org/evento/14414
DTSTAMP:20260416T170000Z
DESCRIPTION:más información aquí: https://safe.axendamazucu.org/evento/1441
 4
DTSTART:20260416T170000Z
DTEND:20260416T180000Z
GEO:+43.364323;-5.841605
LOCATION:Uviéu/Oviedo\, \nEl Manglar \nCalle Martínez Vigil\, 14\, 33010 Ov
 iedo (Asturias)
SUMMARY:Presentación y firma del libro 'Sencillamente sentimientos'
URL:https://safe.axendamazucu.org/evento/14414
END:VEVENT
END:VCALENDAR
