BEGIN:VCALENDAR
VERSION:2.0
PRODID:-//demosphere.net//NONSGML kigkonsult.se iCalcreator 2.22.1//
METHOD:REQUEST
X-WR-TIMEZONE:Europe/Madrid
BEGIN:VEVENT
UID:https://safe.axendamazucu.org/evento/14418
DTSTAMP:20260413T170000Z
DESCRIPTION:más información aquí: https://safe.axendamazucu.org/evento/1441
 8
DTSTART:20260413T170000Z
DTEND:20260413T180000Z
GEO:+43.250229;-5.772957
LOCATION:Mieres\, \nCasa Cultura Teodoro Cuesta. \nC/Manuel Llanez 8\,Miere
 s
SUMMARY:Charla 'Efecto de la incineración sobre el medio ambiente y la salu
 d'
URL:https://safe.axendamazucu.org/evento/14418
END:VEVENT
END:VCALENDAR
