BEGIN:VCALENDAR
VERSION:2.0
PRODID:-//demosphere.net//NONSGML kigkonsult.se iCalcreator 2.22.1//
METHOD:REQUEST
X-WR-TIMEZONE:Europe/Madrid
BEGIN:VEVENT
UID:https://safe.axendamazucu.org/evento/14422
DTSTAMP:20260405T110000Z
DESCRIPTION:más información aquí: https://safe.axendamazucu.org/evento/1442
 2
DTSTART:20260405T110000Z
DTEND:20260405T120000Z
GEO:+43.374321;-5.878706
LOCATION:Uviéu/Oviedo\, \nParcela de El Viescu\, Uviéu
SUMMARY:¿Préstate sentir n'asturiano?Convócase grupu de llectura compartida
  en sesión vermú
URL:https://safe.axendamazucu.org/evento/14422
END:VEVENT
END:VCALENDAR
