BEGIN:VCALENDAR
VERSION:2.0
PRODID:-//demosphere.net//NONSGML kigkonsult.se iCalcreator 2.22.1//
METHOD:REQUEST
X-WR-TIMEZONE:Europe/Madrid
BEGIN:VEVENT
UID:https://safe.axendamazucu.org/evento/14423
DTSTAMP:20260412T083000Z
DESCRIPTION:más información aquí: https://safe.axendamazucu.org/evento/1442
 3
DTSTART:20260412T083000Z
DTEND:20260412T093000Z
GEO:+43.374321;-5.878706
LOCATION:Uviéu/Oviedo\, \nParcela de El Viescu\, Uviéu
SUMMARY:Taller de Espantapájaros para peques y mayores en El Viescu
URL:https://safe.axendamazucu.org/evento/14423
END:VEVENT
END:VCALENDAR
