BEGIN:VCALENDAR
VERSION:2.0
PRODID:-//demosphere.net//NONSGML kigkonsult.se iCalcreator 2.22.1//
METHOD:REQUEST
X-WR-TIMEZONE:Europe/Madrid
BEGIN:VEVENT
UID:https://safe.axendamazucu.org/evento/14424
DTSTAMP:20260419T093000Z
DESCRIPTION:más información aquí: https://safe.axendamazucu.org/evento/1442
 4
DTSTART:20260419T093000Z
DTEND:20260419T103000Z
GEO:+43.374321;-5.878706
LOCATION:Uviéu/Oviedo\, \nParcela de El Viescu\, Uviéu
SUMMARY:Taller de 'Fantásticos fermentos':Pan de masa madre\,yogur\, queso\
 ,kéfir...
URL:https://safe.axendamazucu.org/evento/14424
END:VEVENT
END:VCALENDAR
