BEGIN:VCALENDAR
VERSION:2.0
PRODID:-//demosphere.net//NONSGML kigkonsult.se iCalcreator 2.22.1//
METHOD:REQUEST
X-WR-TIMEZONE:Europe/Madrid
BEGIN:VEVENT
UID:https://safe.axendamazucu.org/evento/14429
DTSTAMP:20260411T093000Z
DESCRIPTION:más información aquí: https://safe.axendamazucu.org/evento/1442
 9
DTSTART:20260411T093000Z
DTEND:20260411T103000Z
GEO:+43.374321;-5.878706
LOCATION:Uviéu/Oviedo\, \nParcela de El Viescu\, Uviéu
SUMMARY:Taller 'Huerta de Primavera'
URL:https://safe.axendamazucu.org/evento/14429
END:VEVENT
END:VCALENDAR
