BEGIN:VCALENDAR
VERSION:2.0
PRODID:-//demosphere.net//NONSGML kigkonsult.se iCalcreator 2.22.1//
METHOD:REQUEST
X-WR-TIMEZONE:Europe/Madrid
BEGIN:VEVENT
UID:https://safe.axendamazucu.org/evento/14430
DTSTAMP:20260418T093000Z
DESCRIPTION:más información aquí: https://safe.axendamazucu.org/evento/1443
 0
DTSTART:20260418T093000Z
DTEND:20260418T103000Z
GEO:+43.374321;-5.878706
LOCATION:Uviéu/Oviedo\, \nParcela de El Viescu\, Uviéu
SUMMARY:Taller de ANTOTIPIA\, un proceso de fotografía solar con pigmentos 
 naturales
URL:https://safe.axendamazucu.org/evento/14430
END:VEVENT
END:VCALENDAR
