BEGIN:VCALENDAR
VERSION:2.0
PRODID:-//demosphere.net//NONSGML kigkonsult.se iCalcreator 2.22.1//
METHOD:REQUEST
X-WR-TIMEZONE:Europe/Madrid
BEGIN:VEVENT
UID:https://safe.axendamazucu.org/evento/14434
DTSTAMP:20260407T170000Z
DESCRIPTION:más información aquí: https://safe.axendamazucu.org/evento/1443
 4
DTSTART:20260407T170000Z
DTEND:20260407T180000Z
GEO:+43.293677;-5.681985
LOCATION:Llangreu/Langreo\, \nCine Felgueroso \nC/ Dorado Sama
SUMMARY:Proyección de la película 'La Patagonia rebelde'
URL:https://safe.axendamazucu.org/evento/14434
END:VEVENT
END:VCALENDAR
