BEGIN:VCALENDAR
VERSION:2.0
PRODID:-//demosphere.net//NONSGML kigkonsult.se iCalcreator 2.22.1//
METHOD:REQUEST
X-WR-TIMEZONE:Europe/Madrid
BEGIN:VEVENT
UID:https://safe.axendamazucu.org/evento/14435
DTSTAMP:20260415T173000Z
DESCRIPTION:más información aquí: https://safe.axendamazucu.org/evento/1443
 5
DTSTART:20260415T173000Z
DTEND:20260415T183000Z
GEO:+43.293677;-5.681985
LOCATION:Llangreu/Langreo\, \nCine Felgueroso \nC/ Dorado Sama
SUMMARY:Presentación del poemario 'El bastón de Chaplin' de Javier García C
 elino
URL:https://safe.axendamazucu.org/evento/14435
END:VEVENT
END:VCALENDAR
