BEGIN:VCALENDAR
VERSION:2.0
PRODID:-//demosphere.net//NONSGML kigkonsult.se iCalcreator 2.22.1//
METHOD:REQUEST
X-WR-TIMEZONE:Europe/Madrid
BEGIN:VEVENT
UID:https://safe.axendamazucu.org/evento/14442
DTSTAMP:20260426T093000Z
DESCRIPTION:más información aquí: https://safe.axendamazucu.org/evento/1444
 2
DTSTART:20260426T093000Z
DTEND:20260426T103000Z
GEO:+43.374321;-5.878706
LOCATION:Uviéu/Oviedo\, \nParcela de El Viescu\, Uviéu
SUMMARY:Taller de danzas del mundo en El Viescu
URL:https://safe.axendamazucu.org/evento/14442
END:VEVENT
END:VCALENDAR
