BEGIN:VCALENDAR
VERSION:2.0
PRODID:-//demosphere.net//NONSGML kigkonsult.se iCalcreator 2.22.1//
METHOD:REQUEST
X-WR-TIMEZONE:Europe/Madrid
BEGIN:VEVENT
UID:https://safe.axendamazucu.org/evento/14449
DTSTAMP:20260509T180000Z
DESCRIPTION:más información aquí: https://safe.axendamazucu.org/evento/1444
 9
DTSTART:20260509T180000Z
DTEND:20260509T190000Z
GEO:+43.564505;-5.922298
LOCATION:Avilés\, \nPub Paseo Malecón\, \nAv. Conde de Guadalhorce\, 39\,Av
 ilés
SUMMARY:XV Aniversario Infeccion con Pulso Elerno + Harry May + Lenincat + 
 Karma Txungo
URL:https://safe.axendamazucu.org/evento/14449
END:VEVENT
END:VCALENDAR
