BEGIN:VCALENDAR
VERSION:2.0
PRODID:-//demosphere.net//NONSGML kigkonsult.se iCalcreator 2.22.1//
METHOD:REQUEST
X-WR-TIMEZONE:Europe/Madrid
BEGIN:VEVENT
UID:https://safe.axendamazucu.org/evento/14459
DTSTAMP:20260421T150000Z
DESCRIPTION:más información aquí: https://safe.axendamazucu.org/evento/1445
 9
DTSTART:20260421T150000Z
DTEND:20260421T160000Z
GEO:+43.246522;-5.777781
LOCATION:Mieres\, \nCentro de educación de personas adultas del Caudal\, \n
 C/ Siete Fuentes\, s/n\, 33600 Mieres
SUMMARY:Jornadas sobre Historia:'La Guerra Civil y el franquismo'
URL:https://safe.axendamazucu.org/evento/14459
END:VEVENT
END:VCALENDAR
