BEGIN:VCALENDAR
VERSION:2.0
PRODID:-//demosphere.net//NONSGML kigkonsult.se iCalcreator 2.22.1//
METHOD:REQUEST
X-WR-TIMEZONE:Europe/Madrid
BEGIN:VEVENT
UID:https://safe.axendamazucu.org/evento/14467
DTSTAMP:20260501T103000Z
DESCRIPTION:más información aquí: https://safe.axendamazucu.org/evento/1446
 7
DTSTART:20260501T103000Z
DTEND:20260501T113000Z
GEO:+43.347061;-5.830883
LOCATION:Uviéu/Oviedo\, \nFosa Común del cementerio civil de San Esteban de
  las Cruces (Uviéu)
SUMMARY:CNT-AIT 1º de MAYU ANARCOSINDICALISTA N'UVIEU
URL:https://safe.axendamazucu.org/evento/14467
END:VEVENT
END:VCALENDAR
