BEGIN:VCALENDAR
VERSION:2.0
PRODID:-//demosphere.net//NONSGML kigkonsult.se iCalcreator 2.22.1//
METHOD:REQUEST
X-WR-TIMEZONE:Europe/Madrid
BEGIN:VEVENT
UID:https://safe.axendamazucu.org/evento/14469
DTSTAMP:20260428T170000Z
DESCRIPTION:más información aquí: https://safe.axendamazucu.org/evento/1446
 9
DTSTART:20260428T170000Z
DTEND:20260428T180000Z
GEO:+43.310917;-5.688894
LOCATION:Llangreu\, \nC.S.A. La Xusticia \nC/Valentín Ochoa 5\,La Felguera
SUMMARY:Conferencia 'Tres vidas anarcosindicalistas'
URL:https://safe.axendamazucu.org/evento/14469
END:VEVENT
END:VCALENDAR
