BEGIN:VCALENDAR
VERSION:2.0
PRODID:-//demosphere.net//NONSGML kigkonsult.se iCalcreator 2.22.1//
METHOD:REQUEST
X-WR-TIMEZONE:Europe/Madrid
BEGIN:VEVENT
UID:https://safe.axendamazucu.org/evento/1698
DTSTAMP:20150307T100000Z
DESCRIPTION:más información aquí: https://safe.axendamazucu.org/evento/1698
DTSTART:20150307T100000Z
DTEND:20150307T110000Z
GEO:+43.588312;-5.768384
LOCATION:Carreño\, \nCasa del Pueblo CNT Candás\,Avda.Reina María Cristina 
 24\,Candás
SUMMARY:Mercadillo social y de trueque
URL:https://safe.axendamazucu.org/evento/1698
END:VEVENT
END:VCALENDAR
