BEGIN:VCALENDAR
VERSION:2.0
PRODID:-//demosphere.net//NONSGML kigkonsult.se iCalcreator 2.22.1//
METHOD:REQUEST
X-WR-TIMEZONE:Europe/Madrid
BEGIN:VEVENT
UID:https://safe.axendamazucu.org/evento/2066
DTSTAMP:20150601T163000Z
DESCRIPTION:más información aquí: https://safe.axendamazucu.org/evento/2066
DTSTART:20150601T163000Z
DTEND:20150601T173000Z
GEO:+43.54012;-5.668148
LOCATION:Xixón/Gijón\, \nCasa Sindical Xixón\,C/Sanz Crespo\,3
SUMMARY:Hablemos de México
URL:https://safe.axendamazucu.org/evento/2066
END:VEVENT
END:VCALENDAR
