BEGIN:VCALENDAR
VERSION:2.0
PRODID:-//demosphere.net//NONSGML kigkonsult.se iCalcreator 2.22.1//
METHOD:REQUEST
X-WR-TIMEZONE:Europe/Madrid
BEGIN:VEVENT
UID:https://safe.axendamazucu.org/evento/2192
DTSTAMP:20150912T170000Z
DESCRIPTION:más información aquí: https://safe.axendamazucu.org/evento/2192
DTSTART:20150912T170000Z
DTEND:20150912T180000Z
GEO:+43.588312;-5.768384
LOCATION:Carreño\, \nCasa del Pueblo CNT Candás\,Avda.Reina María Cristina 
 24\,Candás
SUMMARY:II FERIA DEL LLIBRU ANARQUISTA D’ASTURIES
URL:https://safe.axendamazucu.org/evento/2192
END:VEVENT
END:VCALENDAR
