BEGIN:VCALENDAR
VERSION:2.0
PRODID:-//demosphere.net//NONSGML kigkonsult.se iCalcreator 2.22.1//
METHOD:REQUEST
X-WR-TIMEZONE:Europe/Madrid
BEGIN:VEVENT
UID:https://safe.axendamazucu.org/evento/2273
DTSTAMP:20150924T173000Z
DESCRIPTION:más información aquí: https://safe.axendamazucu.org/evento/2273
DTSTART:20150924T173000Z
DTEND:20150924T183000Z
GEO:+43.54012;-5.668148
LOCATION:Xixón/Gijón\, \nCasa Sindical Xixón\,C/Sanz Crespo\,3
SUMMARY:Mani 14-N Absolución
URL:https://safe.axendamazucu.org/evento/2273
END:VEVENT
END:VCALENDAR
