BEGIN:VCALENDAR
VERSION:2.0
PRODID:-//demosphere.net//NONSGML kigkonsult.se iCalcreator 2.22.1//
METHOD:REQUEST
X-WR-TIMEZONE:Europe/Madrid
BEGIN:VEVENT
UID:https://safe.axendamazucu.org/evento/2292
DTSTAMP:20151003T090000Z
DESCRIPTION:más información aquí: https://safe.axendamazucu.org/evento/2292
DTSTART:20151003T090000Z
DTEND:20151003T100000Z
GEO:+43.588312;-5.768384
LOCATION:Carreño\, \nCasa del Pueblo CNT Candás\,Avda.Reina María Cristina 
 24\,Candás
SUMMARY:Mercadillo social y de trueque
URL:https://safe.axendamazucu.org/evento/2292
END:VEVENT
END:VCALENDAR
