BEGIN:VCALENDAR
VERSION:2.0
PRODID:-//demosphere.net//NONSGML kigkonsult.se iCalcreator 2.22.1//
METHOD:REQUEST
X-WR-TIMEZONE:Europe/Madrid
BEGIN:VEVENT
UID:https://safe.axendamazucu.org/evento/2807
DTSTAMP:20160313T100000Z
DESCRIPTION:más información aquí: https://safe.axendamazucu.org/evento/2807
DTSTART:20160313T100000Z
DTEND:20160313T110000Z
GEO:+43.310917;-5.688894
LOCATION:Llangreu\, \nC.S.A. La Xusticia \nC/Valentín Ochoa 5\,La Felguera
SUMMARY:IV Andecha Centro Social Autoxestionáu La Xusticia
URL:https://safe.axendamazucu.org/evento/2807
END:VEVENT
END:VCALENDAR
