BEGIN:VCALENDAR
VERSION:2.0
PRODID:-//demosphere.net//NONSGML kigkonsult.se iCalcreator 2.22.1//
METHOD:REQUEST
X-WR-TIMEZONE:Europe/Madrid
BEGIN:VEVENT
UID:https://safe.axendamazucu.org/evento/3260
DTSTAMP:20160903T090000Z
DESCRIPTION:más información aquí: https://safe.axendamazucu.org/evento/3260
DTSTART:20160903T090000Z
DTEND:20160903T100000Z
GEO:+43.588312;-5.768384
LOCATION:Carreño\, \nCasa del Pueblo CNT Candás\,Avda.Reina María Cristina 
 24\,Candás
SUMMARY:Mercadillo de Valemás
URL:https://safe.axendamazucu.org/evento/3260
END:VEVENT
END:VCALENDAR
