BEGIN:VCALENDAR
VERSION:2.0
PRODID:-//demosphere.net//NONSGML kigkonsult.se iCalcreator 2.22.1//
METHOD:REQUEST
X-WR-TIMEZONE:Europe/Madrid
BEGIN:VEVENT
UID:https://safe.axendamazucu.org/evento/3356
DTSTAMP:20161013T160000Z
DESCRIPTION:más información aquí: https://safe.axendamazucu.org/evento/3356
DTSTART:20161013T160000Z
DTEND:20161013T170000Z
GEO:+43.310917;-5.688894
LOCATION:Llangreu\, \nC.S.A. La Xusticia \nC/Valentín Ochoa 5\,La Felguera
SUMMARY:Asesoría legal gratuita\, todos los jueves en CSA La Xusticia
URL:https://safe.axendamazucu.org/evento/3356
END:VEVENT
END:VCALENDAR
