BEGIN:VCALENDAR
VERSION:2.0
PRODID:-//demosphere.net//NONSGML kigkonsult.se iCalcreator 2.22.1//
METHOD:REQUEST
X-WR-TIMEZONE:Europe/Madrid
BEGIN:VEVENT
UID:https://safe.axendamazucu.org/evento/426
DTSTAMP:20140121T093000Z
DESCRIPTION:más información aquí: https://safe.axendamazucu.org/evento/426
DTSTART:20140121T093000Z
DTEND:20140121T103000Z
GEO:+43.54012;-5.668148
LOCATION:Xixón/Gijón\, \nCasa Sindical Xixón\,C/Sanz Crespo\,3
SUMMARY:Jornadas Economía Social
URL:https://safe.axendamazucu.org/evento/426
END:VEVENT
END:VCALENDAR
