BEGIN:VCALENDAR
VERSION:2.0
PRODID:-//demosphere.net//NONSGML kigkonsult.se iCalcreator 2.22.1//
METHOD:REQUEST
X-WR-TIMEZONE:Europe/Madrid
BEGIN:VEVENT
UID:https://safe.axendamazucu.org/evento/4325
DTSTAMP:20170611T090000Z
DESCRIPTION:más información aquí: https://safe.axendamazucu.org/evento/4325
DTSTART:20170611T090000Z
DTEND:20170611T100000Z
GEO:+43.3603;-5.84338
LOCATION:Oviedo\, \nEl Olivar: C/ Oscura\, nº 1/3 - Oviedo (Asturias)
SUMMARY:Charla sobre monedas electrónicas
URL:https://safe.axendamazucu.org/evento/4325
END:VEVENT
END:VCALENDAR
