BEGIN:VCALENDAR
VERSION:2.0
PRODID:-//demosphere.net//NONSGML kigkonsult.se iCalcreator 2.22.1//
METHOD:REQUEST
X-WR-TIMEZONE:Europe/Madrid
BEGIN:VEVENT
UID:https://safe.axendamazucu.org/evento/4402
DTSTAMP:20170707T183000Z
DESCRIPTION:más información aquí: https://safe.axendamazucu.org/evento/4402
DTSTART:20170707T183000Z
DTEND:20170707T193000Z
GEO:+43.54012;-5.668148
LOCATION:Xixón/Gijón\, \nCasa Sindical Xixón\,C/Sanz Crespo\,3
SUMMARY:Actu de sofitu a les movilizaciones escontra'l G-20 n'Hamburgo
URL:https://safe.axendamazucu.org/evento/4402
END:VEVENT
END:VCALENDAR
