BEGIN:VCALENDAR
VERSION:2.0
PRODID:-//demosphere.net//NONSGML kigkonsult.se iCalcreator 2.22.1//
METHOD:REQUEST
X-WR-TIMEZONE:Europe/Madrid
BEGIN:VEVENT
UID:https://safe.axendamazucu.org/evento/4513
DTSTAMP:20170907T160000Z
DESCRIPTION:más información aquí: https://safe.axendamazucu.org/evento/4513
DTSTART:20170907T160000Z
DTEND:20170907T170000Z
GEO:+43.310917;-5.688894
LOCATION:Llangreu\, \nC.S.A. La Xusticia \nC/Valentín Ochoa 5\,La Felguera
SUMMARY:Asesoría Laboral Gratuita\,todos los jueves en el CSA La Xusticia
URL:https://safe.axendamazucu.org/evento/4513
END:VEVENT
END:VCALENDAR
