BEGIN:VCALENDAR
VERSION:2.0
PRODID:-//demosphere.net//NONSGML kigkonsult.se iCalcreator 2.22.1//
METHOD:REQUEST
X-WR-TIMEZONE:Europe/Madrid
BEGIN:VEVENT
UID:https://safe.axendamazucu.org/evento/5446
DTSTAMP:20180503T173000Z
DESCRIPTION:más información aquí: https://safe.axendamazucu.org/evento/5446
DTSTART:20180503T173000Z
DTEND:20180503T183000Z
GEO:+43.310917;-5.688894
LOCATION:Llangreu\, \nC.S.A. La Xusticia \nC/Valentín Ochoa 5\,La Felguera
SUMMARY:Punk\, poesía y fanzines en Colombia
URL:https://safe.axendamazucu.org/evento/5446
END:VEVENT
END:VCALENDAR
