BEGIN:VCALENDAR
VERSION:2.0
PRODID:-//demosphere.net//NONSGML kigkonsult.se iCalcreator 2.22.1//
METHOD:REQUEST
X-WR-TIMEZONE:Europe/Madrid
BEGIN:VEVENT
UID:https://safe.axendamazucu.org/evento/5584
DTSTAMP:20180526T200000Z
DESCRIPTION:más información aquí: https://safe.axendamazucu.org/evento/5584
DTSTART:20180526T200000Z
DTEND:20180526T210000Z
GEO:+43.564505;-5.922298
LOCATION:Avilés\, \nPub Paseo Malecón\, \nAv. Conde de Guadalhorce\, 39\,Av
 ilés
SUMMARY:I Xornaes Anticapitalistes.Concierto
URL:https://safe.axendamazucu.org/evento/5584
END:VEVENT
END:VCALENDAR
