BEGIN:VCALENDAR
VERSION:2.0
PRODID:-//demosphere.net//NONSGML kigkonsult.se iCalcreator 2.22.1//
METHOD:REQUEST
X-WR-TIMEZONE:Europe/Madrid
BEGIN:VEVENT
UID:https://safe.axendamazucu.org/evento/5711
DTSTAMP:20180623T093000Z
DESCRIPTION:más información aquí: https://safe.axendamazucu.org/evento/5711
DTSTART:20180623T093000Z
DTEND:20180623T103000Z
GEO:+43.362054;-5.848037
LOCATION:Uviéu/Oviedo\, \nPlaza de la Escandalera
SUMMARY:DESAHUCIOS EN LA CAMOCHA\, UN DRAMA SOCIAL INTOLERABLE
URL:https://safe.axendamazucu.org/evento/5711
END:VEVENT
END:VCALENDAR
