BEGIN:VCALENDAR
VERSION:2.0
PRODID:-//demosphere.net//NONSGML kigkonsult.se iCalcreator 2.22.1//
METHOD:REQUEST
X-WR-TIMEZONE:Europe/Madrid
BEGIN:VEVENT
UID:https://safe.axendamazucu.org/evento/646
DTSTAMP:20140308T180000Z
DESCRIPTION:más información aquí: https://safe.axendamazucu.org/evento/646
DTSTART:20140308T180000Z
DTEND:20140308T190000Z
GEO:+43.588312;-5.768384
LOCATION:Carreño\, \nCasa del Pueblo CNT Candás\,Avda.Reina María Cristina 
 24\,Candás
SUMMARY:CONFERENCIA: 'La cárcel como herramienta de castigo'
URL:https://safe.axendamazucu.org/evento/646
END:VEVENT
END:VCALENDAR
