BEGIN:VCALENDAR
VERSION:2.0
PRODID:-//demosphere.net//NONSGML kigkonsult.se iCalcreator 2.22.1//
METHOD:REQUEST
X-WR-TIMEZONE:Europe/Madrid
BEGIN:VEVENT
UID:https://safe.axendamazucu.org/evento/647
DTSTAMP:20140309T110000Z
DESCRIPTION:más información aquí: https://safe.axendamazucu.org/evento/647
DTSTART:20140309T110000Z
DTEND:20140309T120000Z
GEO:+43.588312;-5.768384
LOCATION:Carreño\, \nCasa del Pueblo CNT Candás\,Avda.Reina María Cristina 
 24\,Candás
SUMMARY:CONFERENCIA: 'El contexto represivo actual en Madrid: el caso de la
  caza de brujas'
URL:https://safe.axendamazucu.org/evento/647
END:VEVENT
END:VCALENDAR
