BEGIN:VCALENDAR
VERSION:2.0
PRODID:-//demosphere.net//NONSGML kigkonsult.se iCalcreator 2.22.1//
METHOD:REQUEST
X-WR-TIMEZONE:Europe/Madrid
BEGIN:VEVENT
UID:https://safe.axendamazucu.org/evento/6812
DTSTAMP:20190316T160000Z
DESCRIPTION:más información aquí: https://safe.axendamazucu.org/evento/6812
DTSTART:20190316T160000Z
DTEND:20190316T170000Z
GEO:+43.539134;-5.657905
LOCATION:Xixón/Gijón\, \nLa habitación propia \nCelestino Junquera\, 1\, 33
 202 Xixón
SUMMARY:The Cycle Project.Teatro + Menstrualidad
URL:https://safe.axendamazucu.org/evento/6812
END:VEVENT
END:VCALENDAR
