BEGIN:VCALENDAR
VERSION:2.0
PRODID:-//demosphere.net//NONSGML kigkonsult.se iCalcreator 2.22.1//
METHOD:REQUEST
X-WR-TIMEZONE:Europe/Madrid
BEGIN:VEVENT
UID:https://safe.axendamazucu.org/evento/6895
DTSTAMP:20190329T210000Z
DESCRIPTION:más información aquí: https://safe.axendamazucu.org/evento/6895
DTSTART:20190329T210000Z
DTEND:20190329T220000Z
GEO:+43.564505;-5.922298
LOCATION:Avilés\, \nPub Paseo Malecón\, \nAv. Conde de Guadalhorce\, 39\,Av
 ilés
SUMMARY:Xornaes feministes. Conciertos
URL:https://safe.axendamazucu.org/evento/6895
END:VEVENT
END:VCALENDAR
