BEGIN:VCALENDAR
VERSION:2.0
PRODID:-//demosphere.net//NONSGML kigkonsult.se iCalcreator 2.22.1//
METHOD:REQUEST
X-WR-TIMEZONE:Europe/Madrid
BEGIN:VEVENT
UID:https://safe.axendamazucu.org/evento/6934
DTSTAMP:20190413T180000Z
DESCRIPTION:más información aquí: https://safe.axendamazucu.org/evento/6934
DTSTART:20190413T180000Z
DTEND:20190413T190000Z
GEO:+43.539134;-5.657905
LOCATION:Xixón/Gijón\, \nLa habitación propia \nCelestino Junquera\, 1\, 33
 202 Xixón
SUMMARY:Concierto Noelia Veira y Vero Rubio
URL:https://safe.axendamazucu.org/evento/6934
END:VEVENT
END:VCALENDAR
