BEGIN:VCALENDAR
VERSION:2.0
PRODID:-//demosphere.net//NONSGML kigkonsult.se iCalcreator 2.22.1//
METHOD:REQUEST
X-WR-TIMEZONE:Europe/Madrid
BEGIN:VEVENT
UID:https://safe.axendamazucu.org/evento/7186
DTSTAMP:20190608T163000Z
DESCRIPTION:más información aquí: https://safe.axendamazucu.org/evento/7186
DTSTART:20190608T163000Z
DTEND:20190608T173000Z
GEO:+43.310917;-5.688894
LOCATION:Llangreu\, \nC.S.A. La Xusticia \nC/Valentín Ochoa 5\,La Felguera
SUMMARY:Presentación del espacio infantil La Caracola
URL:https://safe.axendamazucu.org/evento/7186
END:VEVENT
END:VCALENDAR
