BEGIN:VCALENDAR
VERSION:2.0
PRODID:-//demosphere.net//NONSGML kigkonsult.se iCalcreator 2.22.1//
METHOD:REQUEST
X-WR-TIMEZONE:Europe/Madrid
BEGIN:VEVENT
UID:https://safe.axendamazucu.org/evento/7432
DTSTAMP:20190822T183000Z
DESCRIPTION:más información aquí: https://safe.axendamazucu.org/evento/7432
DTSTART:20190822T183000Z
DTEND:20190822T193000Z
GEO:+43.588312;-5.768384
LOCATION:Carreño\, \nCasa del Pueblo CNT Candás\,Avda.Reina María Cristina 
 24\,Candás
SUMMARY:Titeres desde abajo representa «Paral-lel 55»
URL:https://safe.axendamazucu.org/evento/7432
END:VEVENT
END:VCALENDAR
