BEGIN:VCALENDAR
VERSION:2.0
PRODID:-//demosphere.net//NONSGML kigkonsult.se iCalcreator 2.22.1//
METHOD:REQUEST
X-WR-TIMEZONE:Europe/Madrid
BEGIN:VEVENT
UID:https://safe.axendamazucu.org/evento/7771
DTSTAMP:20191106T180000Z
DESCRIPTION:más información aquí: https://safe.axendamazucu.org/evento/7771
DTSTART:20191106T180000Z
DTEND:20191106T190000Z
GEO:+43.310917;-5.688894
LOCATION:Llangreu\, \nC.S.A. La Xusticia \nC/Valentín Ochoa 5\,La Felguera
SUMMARY:¿Qué ta pasando en Chile?
URL:https://safe.axendamazucu.org/evento/7771
END:VEVENT
END:VCALENDAR
