BEGIN:VCALENDAR
VERSION:2.0
PRODID:-//demosphere.net//NONSGML kigkonsult.se iCalcreator 2.22.1//
METHOD:REQUEST
X-WR-TIMEZONE:Europe/Madrid
BEGIN:VEVENT
UID:https://safe.axendamazucu.org/evento/7776
DTSTAMP:20191104T180000Z
DESCRIPTION:más información aquí: https://safe.axendamazucu.org/evento/7776
DTSTART:20191104T180000Z
DTEND:20191104T190000Z
GEO:+43.54012;-5.668148
LOCATION:Xixón/Gijón\, \nCasa Sindical Xixón\,C/Sanz Crespo\,3
SUMMARY:Conceyu Abiertu Plataforma Asturies pol Derechu a Decidir
URL:https://safe.axendamazucu.org/evento/7776
END:VEVENT
END:VCALENDAR
