BEGIN:VCALENDAR
VERSION:2.0
PRODID:-//demosphere.net//NONSGML kigkonsult.se iCalcreator 2.22.1//
METHOD:REQUEST
X-WR-TIMEZONE:Europe/Madrid
BEGIN:VEVENT
UID:https://safe.axendamazucu.org/evento/7900
DTSTAMP:20191201T123000Z
DESCRIPTION:más información aquí: https://safe.axendamazucu.org/evento/7900
DTSTART:20191201T123000Z
DTEND:20191201T133000Z
GEO:+43.35991;-5.84389
LOCATION:Uviéu/Oviedo\, \nCervecería La Raposa \nC/ Carpio 8-10 Bajo\, 3300
 9 Oviedo
SUMMARY:[Monólogu] Brasa Poétika por Pablo X. Suárez
URL:https://safe.axendamazucu.org/evento/7900
END:VEVENT
END:VCALENDAR
