BEGIN:VCALENDAR
VERSION:2.0
PRODID:-//demosphere.net//NONSGML kigkonsult.se iCalcreator 2.22.1//
METHOD:REQUEST
X-WR-TIMEZONE:Europe/Madrid
BEGIN:VEVENT
UID:https://safe.axendamazucu.org/evento/8135
DTSTAMP:20200123T183000Z
DESCRIPTION:más información aquí: https://safe.axendamazucu.org/evento/8135
DTSTART:20200123T183000Z
DTEND:20200123T193000Z
GEO:+43.35991;-5.84389
LOCATION:Uviéu/Oviedo\, \nCervecería La Raposa \nC/ Carpio 8-10 Bajo\, 3300
 9 Oviedo
SUMMARY:Proyección 'Iñigo Cabacas. Crónica de una herida abierta'
URL:https://safe.axendamazucu.org/evento/8135
END:VEVENT
END:VCALENDAR
