BEGIN:VCALENDAR
VERSION:2.0
PRODID:-//demosphere.net//NONSGML kigkonsult.se iCalcreator 2.22.1//
METHOD:REQUEST
X-WR-TIMEZONE:Europe/Madrid
BEGIN:VEVENT
UID:https://safe.axendamazucu.org/evento/8183
DTSTAMP:20200130T180000Z
DESCRIPTION:más información aquí: https://safe.axendamazucu.org/evento/8183
DTSTART:20200130T180000Z
DTEND:20200130T190000Z
GEO:+43.35991;-5.84389
LOCATION:Uviéu/Oviedo\, \nCervecería La Raposa \nC/ Carpio 8-10 Bajo\, 3300
 9 Oviedo
SUMMARY:Proyección del documental 'La cifra negra de la violencia instituci
 onal'
URL:https://safe.axendamazucu.org/evento/8183
END:VEVENT
END:VCALENDAR
