BEGIN:VCALENDAR
VERSION:2.0
PRODID:-//demosphere.net//NONSGML kigkonsult.se iCalcreator 2.22.1//
METHOD:REQUEST
X-WR-TIMEZONE:Europe/Madrid
BEGIN:VEVENT
UID:https://safe.axendamazucu.org/evento/8486
DTSTAMP:20200730T163000Z
DESCRIPTION:más información aquí: https://safe.axendamazucu.org/evento/8486
DTSTART:20200730T163000Z
DTEND:20200730T173000Z
GEO:+43.54012;-5.668148
LOCATION:Xixón/Gijón\, \nCasa Sindical Xixón\,C/Sanz Crespo\,3
SUMMARY:Charra-Alderique:¿Qué producimos?¿De qué manera?¿A qué precio?
URL:https://safe.axendamazucu.org/evento/8486
END:VEVENT
END:VCALENDAR
