BEGIN:VCALENDAR
VERSION:2.0
PRODID:-//demosphere.net//NONSGML kigkonsult.se iCalcreator 2.22.1//
METHOD:REQUEST
X-WR-TIMEZONE:Europe/Madrid
BEGIN:VEVENT
UID:https://safe.axendamazucu.org/evento/9022
DTSTAMP:20210924T173000Z
DESCRIPTION:más información aquí: https://safe.axendamazucu.org/evento/9022
DTSTART:20210924T173000Z
DTEND:20210924T183000Z
GEO:+43.588312;-5.768384
LOCATION:Carreño\, \nCasa del Pueblo CNT Candás\,Avda.Reina María Cristina 
 24\,Candás
SUMMARY:Centenario CNT Candás.Proyección del documental 'Federica\,la dona 
 que parla'
URL:https://safe.axendamazucu.org/evento/9022
END:VEVENT
END:VCALENDAR
